BEGIN:VCALENDAR
VERSION:2.0
PRODID:-//Jamyang London Buddhist Centre - ECPv6.15.18//NONSGML v1.0//EN
CALSCALE:GREGORIAN
METHOD:PUBLISH
X-WR-CALNAME:Jamyang London Buddhist Centre
X-ORIGINAL-URL:https://jamyang.co.uk
X-WR-CALDESC:Events for Jamyang London Buddhist Centre
REFRESH-INTERVAL;VALUE=DURATION:PT1H
X-Robots-Tag:noindex
X-PUBLISHED-TTL:PT1H
BEGIN:VTIMEZONE
TZID:Europe/London
BEGIN:DAYLIGHT
TZOFFSETFROM:+0000
TZOFFSETTO:+0100
TZNAME:BST
DTSTART:20240331T010000
END:DAYLIGHT
BEGIN:STANDARD
TZOFFSETFROM:+0100
TZOFFSETTO:+0000
TZNAME:GMT
DTSTART:20241027T010000
END:STANDARD
BEGIN:DAYLIGHT
TZOFFSETFROM:+0000
TZOFFSETTO:+0100
TZNAME:BST
DTSTART:20250330T010000
END:DAYLIGHT
BEGIN:STANDARD
TZOFFSETFROM:+0100
TZOFFSETTO:+0000
TZNAME:GMT
DTSTART:20251026T010000
END:STANDARD
BEGIN:DAYLIGHT
TZOFFSETFROM:+0000
TZOFFSETTO:+0100
TZNAME:BST
DTSTART:20260329T010000
END:DAYLIGHT
BEGIN:STANDARD
TZOFFSETFROM:+0100
TZOFFSETTO:+0000
TZNAME:GMT
DTSTART:20261025T010000
END:STANDARD
END:VTIMEZONE
BEGIN:VEVENT
DTSTART;TZID=Europe/London:20250529T190000
DTEND;TZID=Europe/London:20250529T210000
DTSTAMP:20260419T184111
CREATED:20250505T110007Z
LAST-MODIFIED:20250529T140219Z
UID:10002776-1748545200-1748552400@jamyang.co.uk
SUMMARY:The Path of Peace: Through Wisdom & Compassion
DESCRIPTION:Venue\n10 Union St\, London Bridge\n\n  \nDate\nThursday 29th May: 7pm-9pm\n  \n  \nAbout the event\nWe are honoured to welcome Rangjung Neljorma Khandro Tseringma Rinpoche to London for a rare and precious teaching. Recognised as a highly realised female teacher in the Tibetan Buddhist tradition\, Khandro-la embodies the living wisdom of the lineage. In this special event\, she will offer profound insights into the path to inner and outer peace\, grounded in the teachings of bodhicitta (the awakened heart) and the realisation of emptiness. This is a unique opportunity to receive inspiration and guidance from this revered master whose presence and words radiate deep compassion and clarity. This event is joyfully co-hosted by the centres and study groups of FPMT UK and Rigpa London. \nLive translation will be available online for the following languages: \n\nEnglish\nChinese\nItalian\nRussian\nSpanish\nPortuguese\nFrench\nGerman\n\n  \nAbout Rangjung Neljorma Khandro Tseringma Rinpoche \nRangjung Neljorma Khandro Tseringma Rinpoche (Most Esteemed Khadro-la Rinpoche as she is known worldwide) was introduced to the Jamyang community in the summer of 2018 by Lama Zopa Rinpoche when Khandro-la Rinpoche was visiting London. Lama Zopa Rinpoche personally requested Khadro-la Rinpoche to make a visit to Jamyang London to make connections with our community and to bless our place. She also gave an evening teaching during her first visit. \nKhandro-la Rinpoche is the lineage holder of a collection of practices originating from His Holiness the Fifth Dalai Lama\, Lobsang Gyatso (1617-1682). She has been serving as the Tibetan State Medium of the Tenma Oracle (The Tenma Goddesses are Twelve Guardian Deities of Tibetan Buddhism) who assists His Holiness the Fourteenth Dalai Lama\, Tenzin Gyatso in promoting world peace and inter-religious harmony. Read this autobiography in verse by Khadro-la Rinpoche. \n  \n\n Online tickets\nKhandro-la’s teachings are available to attend online; in-person tickets have now sold out. \nAttendance for Ordained Sangha is sponsored by the event organisers\, please select the open donation option.
URL:https://jamyang.co.uk/whats-on/the-path-of-peace-through-wisdom-compassion/
LOCATION:10 Union St\, 10 Union Street\, London\, SE1 1SZ\, United Kingdom
CATEGORIES:Buddhist Special Event
ATTACH;FMTTYPE=image/png:https://jamyang.co.uk/wp-content/uploads/2025/05/Online-Only-Banner-scaled.png
END:VEVENT
END:VCALENDAR