BEGIN:VCALENDAR
VERSION:2.0
PRODID:-//Jamyang London Buddhist Centre - ECPv6.15.18//NONSGML v1.0//EN
CALSCALE:GREGORIAN
METHOD:PUBLISH
X-WR-CALNAME:Jamyang London Buddhist Centre
X-ORIGINAL-URL:https://jamyang.co.uk
X-WR-CALDESC:Events for Jamyang London Buddhist Centre
REFRESH-INTERVAL;VALUE=DURATION:PT1H
X-Robots-Tag:noindex
X-PUBLISHED-TTL:PT1H
BEGIN:VTIMEZONE
TZID:Europe/London
BEGIN:DAYLIGHT
TZOFFSETFROM:+0000
TZOFFSETTO:+0100
TZNAME:BST
DTSTART:20230326T010000
END:DAYLIGHT
BEGIN:STANDARD
TZOFFSETFROM:+0100
TZOFFSETTO:+0000
TZNAME:GMT
DTSTART:20231029T010000
END:STANDARD
BEGIN:DAYLIGHT
TZOFFSETFROM:+0000
TZOFFSETTO:+0100
TZNAME:BST
DTSTART:20240331T010000
END:DAYLIGHT
BEGIN:STANDARD
TZOFFSETFROM:+0100
TZOFFSETTO:+0000
TZNAME:GMT
DTSTART:20241027T010000
END:STANDARD
BEGIN:DAYLIGHT
TZOFFSETFROM:+0000
TZOFFSETTO:+0100
TZNAME:BST
DTSTART:20250330T010000
END:DAYLIGHT
BEGIN:STANDARD
TZOFFSETFROM:+0100
TZOFFSETTO:+0000
TZNAME:GMT
DTSTART:20251026T010000
END:STANDARD
END:VTIMEZONE
BEGIN:VEVENT
DTSTART;TZID=Europe/London:20241024T140000
DTEND;TZID=Europe/London:20241024T160000
DTSTAMP:20260421T202546
CREATED:20241014T131452Z
LAST-MODIFIED:20241014T131454Z
UID:10002499-1729778400-1729785600@jamyang.co.uk
SUMMARY:Repaying the Kindness | Carers Group
DESCRIPTION:Empowering carers \nJoin Jamyang’s community of carers for a free outings programme. \nContact the organiser to learn more details about the upcoming outing and secure your place \nAbout Repaying the Kindness \nEstablished nearly 20 years ago. This award-winning secular project was established to nurture and support carers in ways that strengthen their sense of wellbeing and help to reduce stress. \nIs this for me? \nWhether you care for a loved one or work as a caregiver professionally\, feel rejuvenated and revitalized by these two-hour-outings. \nWe hope you will join us for an engaging afternoon of joy and connection! \n \nHow to join? \n\nIn-person.\nFree event\nPlease contact Jane to know more details about the outings.\nE-mail: jane@jamyang.co.uk\n\n  \nUpcoming Outings \n\nThursday\, 24th October – 2 pm – Dulwich Picture Gallery\nThursday\, 21st November – time tbc – London Zoo\nThursday\, 5th December – 2 pm – Garden Museum\, Christmas gift making\nThursday\, 12th December – 12 noon – Repaying the Kindness Christmas party at Jamyang\n\n  \nAnyone interested should contact Jane first so she can book you in. Please contact: jane@jamyang.co.uk / 07966 510290
URL:https://jamyang.co.uk/whats-on/repaying-the-kindness-carers-group-10-2/2024-10-24/
LOCATION:In-person\, The Old Courthouse\, 43 Renfrew Road\, London\, London\, SE11 4NA\, United Kingdom
CATEGORIES:Repaying the Kindness - Carers Group
ATTACH;FMTTYPE=image/jpeg:https://jamyang.co.uk/wp-content/uploads/2022/12/Event-Banners-2023-templates-web-.jpg
END:VEVENT
END:VCALENDAR