BEGIN:VCALENDAR
VERSION:2.0
PRODID:-//Jamyang London Buddhist Centre - ECPv6.15.18//NONSGML v1.0//EN
CALSCALE:GREGORIAN
METHOD:PUBLISH
X-WR-CALNAME:Jamyang London Buddhist Centre
X-ORIGINAL-URL:https://jamyang.co.uk
X-WR-CALDESC:Events for Jamyang London Buddhist Centre
REFRESH-INTERVAL;VALUE=DURATION:PT1H
X-Robots-Tag:noindex
X-PUBLISHED-TTL:PT1H
BEGIN:VTIMEZONE
TZID:Europe/London
BEGIN:DAYLIGHT
TZOFFSETFROM:+0000
TZOFFSETTO:+0100
TZNAME:BST
DTSTART:20230326T010000
END:DAYLIGHT
BEGIN:STANDARD
TZOFFSETFROM:+0100
TZOFFSETTO:+0000
TZNAME:GMT
DTSTART:20231029T010000
END:STANDARD
BEGIN:DAYLIGHT
TZOFFSETFROM:+0000
TZOFFSETTO:+0100
TZNAME:BST
DTSTART:20240331T010000
END:DAYLIGHT
BEGIN:STANDARD
TZOFFSETFROM:+0100
TZOFFSETTO:+0000
TZNAME:GMT
DTSTART:20241027T010000
END:STANDARD
BEGIN:DAYLIGHT
TZOFFSETFROM:+0000
TZOFFSETTO:+0100
TZNAME:BST
DTSTART:20250330T010000
END:DAYLIGHT
BEGIN:STANDARD
TZOFFSETFROM:+0100
TZOFFSETTO:+0000
TZNAME:GMT
DTSTART:20251026T010000
END:STANDARD
END:VTIMEZONE
BEGIN:VEVENT
DTSTART;TZID=Europe/London:20241107T183000
DTEND;TZID=Europe/London:20241107T193000
DTSTAMP:20260421T205722
CREATED:20240903T090627Z
LAST-MODIFIED:20240903T090627Z
UID:10002474-1731004200-1731007800@jamyang.co.uk
SUMMARY:Jamyang Legacy Fund Online Community Session
DESCRIPTION:About Legacy Giving \nLegacy giving is a profound way to make a lasting difference. It allows you to designate a portion of your estate\, a cash gift or other such donations such as stocks and shares\, to support the Jamyang community\, ensuring that your centre continues to thrive. \nYour legacy gift helps sustain our centre’s vital programs\, supports our teachers\, monastic community and preserves our sacred spaces. It is a way to ensure that the light of Dharma continues to shine brightly. \nIncluding a legacy donation for Jamyang in your will may easier than you might think. \nAbout the session \nThis is an online session hosted by Venerable Drolma\, Alison\, and Paul. During this session we will give a brief introduction to the Jamyang Legacy Fund\, a new initiative designed to support the centre and its growing activities for the years ahead. \nRSVP below to join us and find out more about this important initiative and how you can get involved.
URL:https://jamyang.co.uk/whats-on/jamyang-legacy-fund-online-community-session/
LOCATION:online
CATEGORIES:Community Activities,Friends
ATTACH;FMTTYPE=image/jpeg:https://jamyang.co.uk/wp-content/uploads/2024/05/Introducing-Legacy-Giving-at-Jamyang.jpg
END:VEVENT
END:VCALENDAR