BEGIN:VCALENDAR
VERSION:2.0
PRODID:-//Jamyang London Buddhist Centre - ECPv6.15.18//NONSGML v1.0//EN
CALSCALE:GREGORIAN
METHOD:PUBLISH
X-WR-CALNAME:Jamyang London Buddhist Centre
X-ORIGINAL-URL:https://jamyang.co.uk
X-WR-CALDESC:Events for Jamyang London Buddhist Centre
REFRESH-INTERVAL;VALUE=DURATION:PT1H
X-Robots-Tag:noindex
X-PUBLISHED-TTL:PT1H
BEGIN:VTIMEZONE
TZID:Europe/London
BEGIN:DAYLIGHT
TZOFFSETFROM:+0000
TZOFFSETTO:+0100
TZNAME:BST
DTSTART:20240331T010000
END:DAYLIGHT
BEGIN:STANDARD
TZOFFSETFROM:+0100
TZOFFSETTO:+0000
TZNAME:GMT
DTSTART:20241027T010000
END:STANDARD
BEGIN:DAYLIGHT
TZOFFSETFROM:+0000
TZOFFSETTO:+0100
TZNAME:BST
DTSTART:20250330T010000
END:DAYLIGHT
BEGIN:STANDARD
TZOFFSETFROM:+0100
TZOFFSETTO:+0000
TZNAME:GMT
DTSTART:20251026T010000
END:STANDARD
BEGIN:DAYLIGHT
TZOFFSETFROM:+0000
TZOFFSETTO:+0100
TZNAME:BST
DTSTART:20260329T010000
END:DAYLIGHT
BEGIN:STANDARD
TZOFFSETFROM:+0100
TZOFFSETTO:+0000
TZNAME:GMT
DTSTART:20261025T010000
END:STANDARD
END:VTIMEZONE
BEGIN:VEVENT
DTSTART;TZID=Europe/London:20250114T140000
DTEND;TZID=Europe/London:20250114T160000
DTSTAMP:20260421T121507
CREATED:20250107T102726Z
LAST-MODIFIED:20250107T102727Z
UID:10002523-1736863200-1736870400@jamyang.co.uk
SUMMARY:Fermentation Workshop
DESCRIPTION:About the Community Workshop\n\nJoin Asako and Joe for our next fermentation workshop!\n\nClose to Kennington and Elephant and Castle Stations\nIn-person\nFree Event Supported by the Mayor’s Fund for London.\n\n  \nHow to book \nPlease book by e-mail to reserve your place (asakoishere@gmail.com) \n 
URL:https://jamyang.co.uk/whats-on/community-workshop-kimchi-making-2-2/
LOCATION:Café at Jamyang\, 43 Renfrew Road\, London\, London\, SE11 4NA\, United Kingdom
CATEGORIES:Community Activities
ATTACH;FMTTYPE=image/jpeg:https://jamyang.co.uk/wp-content/uploads/2022/07/Event-Banners-2023-templates-web-11.jpg
END:VEVENT
END:VCALENDAR