BEGIN:VCALENDAR
VERSION:2.0
PRODID:-//Jamyang London Buddhist Centre - ECPv6.15.18//NONSGML v1.0//EN
CALSCALE:GREGORIAN
METHOD:PUBLISH
X-WR-CALNAME:Jamyang London Buddhist Centre
X-ORIGINAL-URL:https://jamyang.co.uk
X-WR-CALDESC:Events for Jamyang London Buddhist Centre
REFRESH-INTERVAL;VALUE=DURATION:PT1H
X-Robots-Tag:noindex
X-PUBLISHED-TTL:PT1H
BEGIN:VTIMEZONE
TZID:Europe/London
BEGIN:DAYLIGHT
TZOFFSETFROM:+0000
TZOFFSETTO:+0100
TZNAME:BST
DTSTART:20240331T010000
END:DAYLIGHT
BEGIN:STANDARD
TZOFFSETFROM:+0100
TZOFFSETTO:+0000
TZNAME:GMT
DTSTART:20241027T010000
END:STANDARD
BEGIN:DAYLIGHT
TZOFFSETFROM:+0000
TZOFFSETTO:+0100
TZNAME:BST
DTSTART:20250330T010000
END:DAYLIGHT
BEGIN:STANDARD
TZOFFSETFROM:+0100
TZOFFSETTO:+0000
TZNAME:GMT
DTSTART:20251026T010000
END:STANDARD
BEGIN:DAYLIGHT
TZOFFSETFROM:+0000
TZOFFSETTO:+0100
TZNAME:BST
DTSTART:20260329T010000
END:DAYLIGHT
BEGIN:STANDARD
TZOFFSETFROM:+0100
TZOFFSETTO:+0000
TZNAME:GMT
DTSTART:20261025T010000
END:STANDARD
END:VTIMEZONE
BEGIN:VEVENT
DTSTART;TZID=Europe/London:20250524T103000
DTEND;TZID=Europe/London:20250524T160000
DTSTAMP:20260420T191256
CREATED:20240313T105224Z
LAST-MODIFIED:20250509T142928Z
UID:10002138-1748082600-1748102400@jamyang.co.uk
SUMMARY:Jamyang's Spring Walk
DESCRIPTION:Welcome to our first outing of the year to a wonderfully wooded area of East London. \nMeeting Info \nMeet at Waterloo Main Line Station under the large suspended clock near platform eleven at 10:30 am. We’ll be travelling within the zone 6 and may be able to get a group fare. \nAbout the Spring Walk \nThe walk starts from Belvedere where we enter the woods and find an elevated heath that was settled in ancient times\, then drop down through Abbey Woods to the stunning remains of Lesnes Abbey. Here we can have a stop to explore\, have lunch at a cafe or our own lunch packs\, before heading off for the afternoon through interconnecting woodlands with less access for provisions till we meet a friendly pub that knows we’re en route that does teas/coffees etc. \nFrom here there are buses to shorten the walk\, with the remainder continuing through Oxleas Wood with broad avenues and flat walking leading finally to Falcon Wood Rail Station for our return to Waterloo. \nThere are some testing climbs in parts but nothing too challenging\, so please have suitable foot ware and maybe bring some water. Distance 5-6 miles finishing around 4 pm. \nLook forward to meeting you\, and please call Robin on 07442179739 for additional information or if the weather is incompatible and means we need to cancel.
URL:https://jamyang.co.uk/whats-on/jamyangs-spring-walk/
LOCATION:London
CATEGORIES:Community Activities
ATTACH;FMTTYPE=image/jpeg:https://jamyang.co.uk/wp-content/uploads/2024/03/JamyangWalks-Group3.jpg
END:VEVENT
END:VCALENDAR