BEGIN:VCALENDAR
VERSION:2.0
PRODID:-//Jamyang London Buddhist Centre - ECPv6.15.18//NONSGML v1.0//EN
CALSCALE:GREGORIAN
METHOD:PUBLISH
X-WR-CALNAME:Jamyang London Buddhist Centre
X-ORIGINAL-URL:https://jamyang.co.uk
X-WR-CALDESC:Events for Jamyang London Buddhist Centre
REFRESH-INTERVAL;VALUE=DURATION:PT1H
X-Robots-Tag:noindex
X-PUBLISHED-TTL:PT1H
BEGIN:VTIMEZONE
TZID:Europe/London
BEGIN:DAYLIGHT
TZOFFSETFROM:+0000
TZOFFSETTO:+0100
TZNAME:BST
DTSTART:20240331T010000
END:DAYLIGHT
BEGIN:STANDARD
TZOFFSETFROM:+0100
TZOFFSETTO:+0000
TZNAME:GMT
DTSTART:20241027T010000
END:STANDARD
BEGIN:DAYLIGHT
TZOFFSETFROM:+0000
TZOFFSETTO:+0100
TZNAME:BST
DTSTART:20250330T010000
END:DAYLIGHT
BEGIN:STANDARD
TZOFFSETFROM:+0100
TZOFFSETTO:+0000
TZNAME:GMT
DTSTART:20251026T010000
END:STANDARD
BEGIN:DAYLIGHT
TZOFFSETFROM:+0000
TZOFFSETTO:+0100
TZNAME:BST
DTSTART:20260329T010000
END:DAYLIGHT
BEGIN:STANDARD
TZOFFSETFROM:+0100
TZOFFSETTO:+0000
TZNAME:GMT
DTSTART:20261025T010000
END:STANDARD
END:VTIMEZONE
BEGIN:VEVENT
DTSTART;VALUE=DATE:20251104
DTEND;VALUE=DATE:20251105
DTSTAMP:20260425T204439
CREATED:20251029T162102Z
LAST-MODIFIED:20251106T155658Z
UID:10003004-1762214400-1762300799@jamyang.co.uk
SUMMARY:Chittamani Tara Puja
DESCRIPTION:Chittamani (Mind Jewel) Tara\, is the Highest Yoga Tantra form of Tara\, the female Buddha. \nThe benefits of Tara practice according to Lama Zopa Rinpoche: \nTara is quick to grant success in obtaining the ultimate happiness of enlightenment. You receive much good merit\, or cause of happiness; it prevents a suffering rebirth in your next life; you receive initiation from millions of buddhas; and you achieve enlightenment. Besides these\, however\, Tara practice has many other benefits. Reciting the Twenty-one Taras’ prayer with devotion\, at dawn or dusk—or remembering Tara\, singing praises and reciting mantras at any time of the day or night—protects you from fear and dangers\, and fulfill all your wishes. If you pray to Tara\, Tara is particularly quick to grant help. \nThis practice is restricted to practitioners who hold a Highest Yoga Tantra empowerment \nPlease register using the link below before attending this event. \nAs part of our commitment to care for your spiritual wellbeing\, and that of our teachers and the center as a whole\, we kindly ask everyone who wishes to engage in this practice answer a few short questions about their practice background. Please click the button below to enquire about how to join for this practice. \nRegister Here
URL:https://jamyang.co.uk/whats-on/chittamani-tara-puja/2025-11-04/
LOCATION:In-person\, The Old Courthouse\, 43 Renfrew Road\, London\, London\, SE11 4NA\, United Kingdom
ATTACH;FMTTYPE=image/jpeg:https://jamyang.co.uk/wp-content/uploads/2020/11/Arya-Tara.jpg
END:VEVENT
END:VCALENDAR