BEGIN:VCALENDAR
VERSION:2.0
PRODID:-//Jamyang London Buddhist Centre - ECPv6.15.18//NONSGML v1.0//EN
CALSCALE:GREGORIAN
METHOD:PUBLISH
X-ORIGINAL-URL:https://jamyang.co.uk
X-WR-CALDESC:Events for Jamyang London Buddhist Centre
REFRESH-INTERVAL;VALUE=DURATION:PT1H
X-Robots-Tag:noindex
X-PUBLISHED-TTL:PT1H
BEGIN:VTIMEZONE
TZID:Europe/London
BEGIN:DAYLIGHT
TZOFFSETFROM:+0000
TZOFFSETTO:+0100
TZNAME:BST
DTSTART:20240331T010000
END:DAYLIGHT
BEGIN:STANDARD
TZOFFSETFROM:+0100
TZOFFSETTO:+0000
TZNAME:GMT
DTSTART:20241027T010000
END:STANDARD
BEGIN:DAYLIGHT
TZOFFSETFROM:+0000
TZOFFSETTO:+0100
TZNAME:BST
DTSTART:20250330T010000
END:DAYLIGHT
BEGIN:STANDARD
TZOFFSETFROM:+0100
TZOFFSETTO:+0000
TZNAME:GMT
DTSTART:20251026T010000
END:STANDARD
BEGIN:DAYLIGHT
TZOFFSETFROM:+0000
TZOFFSETTO:+0100
TZNAME:BST
DTSTART:20260329T010000
END:DAYLIGHT
BEGIN:STANDARD
TZOFFSETFROM:+0100
TZOFFSETTO:+0000
TZNAME:GMT
DTSTART:20261025T010000
END:STANDARD
END:VTIMEZONE
BEGIN:VEVENT
DTSTART;TZID=Europe/London:20251107T183000
DTEND;TZID=Europe/London:20251107T203000
DTSTAMP:20260425T192826
CREATED:20250925T101152Z
LAST-MODIFIED:20251107T174508Z
UID:10002983-1762540200-1762547400@jamyang.co.uk
SUMMARY:Professor Bob Thurman: The Great 14th as Mahāvajradhara
DESCRIPTION:About the Event\nWe’re thrilled to welcome Professor Robert A. F. Thurman to Jamyang on Friday 7 November at 6.30pm for an evening lecture and live Q&A. \n\n\nSpeaking on the topic of The Great 14th Dalai Lama as Guru Mahāvajradhara\, the occasion is an historic one for our community. This will be the very first time Professor Thurman—renowned author\, pioneering translator of Buddhist texts\, and the first Westerner ordained as a Tibetan Buddhist monk by His Holiness the Dalai Lama—will be giving a dialogue at Jamyang.\n\n\n\nAbout the Speaker\nA leading voice in bringing Tibetan wisdom to the West\, he is co-founder of Tibet House US and the Menla Healing Center\, and holds the Jey Tsong Khapa Chair of Indo-Tibetan Buddhist Studies at Columbia University. This is an extraordinarily rare opportunity to engage directly with one of the most influential scholars of Buddhism of our time.\n  \nAccessibility + Monastic Registration\nWe believe everyone should have the opportunity to receive the Dharma. If you’d like to attend but need support with the donation\, please email gateway@jamyang.co.uk – Monastics are also invited to attend free of any recommended donation using the same email contact.
URL:https://jamyang.co.uk/whats-on/professor-bob-thurman-at-jamyang-london/
LOCATION:Hybrid\, 43 Renfrew Road\, London\, London\, SE11 4NA\, United Kingdom
CATEGORIES:Buddhist Philosophy,Buddhist Practice,Buddhist Special Event,Buddhist Studies
ATTACH;FMTTYPE=image/jpeg:https://jamyang.co.uk/wp-content/uploads/2025/09/Template-Web-Banner-5.jpg
END:VEVENT
END:VCALENDAR