BEGIN:VCALENDAR
VERSION:2.0
PRODID:-//Jamyang London Buddhist Centre - ECPv6.15.18//NONSGML v1.0//EN
CALSCALE:GREGORIAN
METHOD:PUBLISH
X-ORIGINAL-URL:https://jamyang.co.uk
X-WR-CALDESC:Events for Jamyang London Buddhist Centre
REFRESH-INTERVAL;VALUE=DURATION:PT1H
X-Robots-Tag:noindex
X-PUBLISHED-TTL:PT1H
BEGIN:VTIMEZONE
TZID:Europe/London
BEGIN:DAYLIGHT
TZOFFSETFROM:+0000
TZOFFSETTO:+0100
TZNAME:BST
DTSTART:20250330T010000
END:DAYLIGHT
BEGIN:STANDARD
TZOFFSETFROM:+0100
TZOFFSETTO:+0000
TZNAME:GMT
DTSTART:20251026T010000
END:STANDARD
BEGIN:DAYLIGHT
TZOFFSETFROM:+0000
TZOFFSETTO:+0100
TZNAME:BST
DTSTART:20260329T010000
END:DAYLIGHT
BEGIN:STANDARD
TZOFFSETFROM:+0100
TZOFFSETTO:+0000
TZNAME:GMT
DTSTART:20261025T010000
END:STANDARD
BEGIN:DAYLIGHT
TZOFFSETFROM:+0000
TZOFFSETTO:+0100
TZNAME:BST
DTSTART:20270328T010000
END:DAYLIGHT
BEGIN:STANDARD
TZOFFSETFROM:+0100
TZOFFSETTO:+0000
TZNAME:GMT
DTSTART:20271031T010000
END:STANDARD
END:VTIMEZONE
BEGIN:VEVENT
DTSTART;TZID=Europe/London:20261117T182000
DTEND;TZID=Europe/London:20261117T200000
DTSTAMP:20260419T213343
CREATED:20251126T102311Z
LAST-MODIFIED:20260311T122814Z
UID:10003215-1794939600-1794945600@jamyang.co.uk
SUMMARY:Dharma Express Meditation
DESCRIPTION:This regular drop-in session allows students to practice various Buddhist meditations with their peers\, followed by a discussion group for anyone interested in the Buddhist worldview and way of life. \nThis drop-in group it meets on Tuesday evenings for meditation and discussion about Buddhist practice\, and it offers an opportunity to build a meaningful community with people who care about practice and mindfulness. People of all experience levels are welcome. \n\nDrop-in Meditation + Discussion Group\nIn-person only\nMeditation led by peers\nDonations are welcome\n\nSchedule\n\n18:30-19:00 Meditation Session\n19:00-20:00 Discussion & Sharing Circle\n\n  \nMeditation Session: What can I expect?\nRegular drop-in meditation sessions.  \nA short guided meditation session facilitated by various students of Jamyang Buddhist Centre London\, to practice various Buddhist meditations with their peers \nDiscussion Group: What can I expect?\nLight-hearted conversation on various topics of Buddhist philosophy\, Buddhist psychology and Buddhist practice over some light refreshments. \nThe meditation is followed by a group-directed discussion of Buddhism with no agenda\, objectives or themes to discuss the Buddhist teachings and to share ideas and reflections in a fun\, informal and friendly setting. \nAll are welcome\, whether experienced students or completely new to Buddhism. \nHow do I join?\nBook on Eventbrite \nWe suggest saving your spot ahead of time to help the facilitator to organise the event. Alternatively\, you can just drop in.  \nPlease arrive at 18:20 for a 18:30 start. \nDonations are welcome: Jamyang relies on the kind donations of those who attend activities at the centre. The funds enable us to offer this type of class on a regular basis – we thank you for your generosity.
URL:https://jamyang.co.uk/whats-on/dharma-express-meditation/2026-11-17/
LOCATION:In-person\, The Old Courthouse\, 43 Renfrew Road\, London\, London\, SE11 4NA\, United Kingdom
CATEGORIES:Buddhist Meditation
ATTACH;FMTTYPE=image/jpeg:https://jamyang.co.uk/wp-content/uploads/2023/07/Event-Banners-2023-templates-web-15-e1721127976958.jpg
END:VEVENT
END:VCALENDAR