BEGIN:VCALENDAR
VERSION:2.0
PRODID:-//Jamyang London Buddhist Centre - ECPv6.15.18//NONSGML v1.0//EN
CALSCALE:GREGORIAN
METHOD:PUBLISH
X-WR-CALNAME:Jamyang London Buddhist Centre
X-ORIGINAL-URL:https://jamyang.co.uk
X-WR-CALDESC:Events for Jamyang London Buddhist Centre
REFRESH-INTERVAL;VALUE=DURATION:PT1H
X-Robots-Tag:noindex
X-PUBLISHED-TTL:PT1H
BEGIN:VTIMEZONE
TZID:Europe/London
BEGIN:DAYLIGHT
TZOFFSETFROM:+0000
TZOFFSETTO:+0100
TZNAME:BST
DTSTART:20250330T010000
END:DAYLIGHT
BEGIN:STANDARD
TZOFFSETFROM:+0100
TZOFFSETTO:+0000
TZNAME:GMT
DTSTART:20251026T010000
END:STANDARD
BEGIN:DAYLIGHT
TZOFFSETFROM:+0000
TZOFFSETTO:+0100
TZNAME:BST
DTSTART:20260329T010000
END:DAYLIGHT
BEGIN:STANDARD
TZOFFSETFROM:+0100
TZOFFSETTO:+0000
TZNAME:GMT
DTSTART:20261025T010000
END:STANDARD
BEGIN:DAYLIGHT
TZOFFSETFROM:+0000
TZOFFSETTO:+0100
TZNAME:BST
DTSTART:20270328T010000
END:DAYLIGHT
BEGIN:STANDARD
TZOFFSETFROM:+0100
TZOFFSETTO:+0000
TZNAME:GMT
DTSTART:20271031T010000
END:STANDARD
END:VTIMEZONE
BEGIN:VEVENT
DTSTART;TZID=Europe/London:20260413T170000
DTEND;TZID=Europe/London:20260413T200000
DTSTAMP:20260425T230959
CREATED:20260318T112354Z
LAST-MODIFIED:20260413T160708Z
UID:10003739-1776099600-1776110400@jamyang.co.uk
SUMMARY:Remembering Rinpoche
DESCRIPTION:Join us in commemorating the three year anniversary of Rinpoche showing the aspect of passing away. \nFollowing the Parinirvana of our holy guru\, Kyabje Lama Zopa Rinpoche\, we invite you\, our beloved community members whose ultimate happiness was Rinpoche’s constant and only concern\, to join us\, online or in person\, to create the causes for His swift return\, so that we may be able to very quickly receive teachings in His physical presence again\, and so that all beings as vast as space may continue to benefit from His holy activities. \n  \n\nChanting the Names of Noble Manjushri (17:00-17:45)\n\nFollowing the advice of His Holiness the Dalai Lama many students of Rinpoche have been reciting this precious text for the swift return of Lama Zopa Rinpoche’s reincarnation. We will be holding a group recitation of the text Chanting the Names of Noble Manjushri \n\nA teaching from the archives (18:00-19:00)\n\nAfter reciting sutra we will watch an excerpt of some archival footage of Rinpoche giving a Dharma teaching here at Jamyang. \n\nStory Telling (19:00-20:00) – in-person\n\nAfter the teaching we will convene to the newly opened Kindness Cafe here at Jamyang for tea and cake\, and to share stories of Rinpoche. Apologies to our friends from further afield but this part of the evening will not be available online. \n  \nHow to join \nJoin us in the gompa at Jamyang or online via livestream on the Jamyang YouTube channel. A zoom link will also be posted on this page 15 minutes before the event starts.
URL:https://jamyang.co.uk/whats-on/remembering-rinpoche-3/
LOCATION:Hybrid\, 43 Renfrew Road\, London\, London\, SE11 4NA\, United Kingdom
CATEGORIES:Buddhist Practice,Buddhist Special Event
ATTACH;FMTTYPE=image/jpeg:https://jamyang.co.uk/wp-content/uploads/2023/04/Lama-Zopa-at-Jamyang_R_Bath-1.jpg
END:VEVENT
END:VCALENDAR