BEGIN:VCALENDAR
VERSION:2.0
PRODID:-//Jamyang London Buddhist Centre - ECPv6.15.18//NONSGML v1.0//EN
CALSCALE:GREGORIAN
METHOD:PUBLISH
X-WR-CALNAME:Jamyang London Buddhist Centre
X-ORIGINAL-URL:https://jamyang.co.uk
X-WR-CALDESC:Events for Jamyang London Buddhist Centre
REFRESH-INTERVAL;VALUE=DURATION:PT1H
X-Robots-Tag:noindex
X-PUBLISHED-TTL:PT1H
BEGIN:VTIMEZONE
TZID:Europe/London
BEGIN:DAYLIGHT
TZOFFSETFROM:+0000
TZOFFSETTO:+0100
TZNAME:BST
DTSTART:20250330T010000
END:DAYLIGHT
BEGIN:STANDARD
TZOFFSETFROM:+0100
TZOFFSETTO:+0000
TZNAME:GMT
DTSTART:20251026T010000
END:STANDARD
BEGIN:DAYLIGHT
TZOFFSETFROM:+0000
TZOFFSETTO:+0100
TZNAME:BST
DTSTART:20260329T010000
END:DAYLIGHT
BEGIN:STANDARD
TZOFFSETFROM:+0100
TZOFFSETTO:+0000
TZNAME:GMT
DTSTART:20261025T010000
END:STANDARD
BEGIN:DAYLIGHT
TZOFFSETFROM:+0000
TZOFFSETTO:+0100
TZNAME:BST
DTSTART:20270328T010000
END:DAYLIGHT
BEGIN:STANDARD
TZOFFSETFROM:+0100
TZOFFSETTO:+0000
TZNAME:GMT
DTSTART:20271031T010000
END:STANDARD
END:VTIMEZONE
BEGIN:VEVENT
DTSTART;VALUE=DATE:20260426
DTEND;VALUE=DATE:20260427
DTSTAMP:20260425T230333
CREATED:20260109T110205Z
LAST-MODIFIED:20260109T121711Z
UID:10003507-1777190400-1777222800@jamyang.co.uk
SUMMARY:Lama Chopa and Tsog Offering (Guru Puja)
DESCRIPTION:Lama Chopa (also known as Guru Puja) is a practice of guru devotion special to the Gelugpa tradition. During this practice\, the lamas of the graduated path lineage beginning with Shakyamuni Buddha himself\, are invoked\, extending to present direct teachers who have shown the path. Practitioners pay homage\, make offerings\, and request each of them to please bless their minds with the same realizations that they themselves have generated. By offering sincere\, heartfelt requests\, students make their minds ripe to receive the full blessings of this precious lineage and quickly actualize the realizations they need to attain enlightenment. If you wish to experience realizations quickly\, the practice of Lama Chopa is indispensable. \nThe benefits of the practice according to Lama Zopa Rinpoche: \nPracticing this Guru Puja\, which is an integration of the three deities\, makes it much easier to achieve enlightenment in a brief life of this degenerated time. Doing this practice every day\, with purification and many infinite skies of merit\, brings the mind closer to the path to enlightenment and closer to enlightenment itself\, and so much closer to freeing all sentient beings from obscurations and suffering and leading them to enlightenment. Putting the meaning of this into practice in one’s life makes each day extremely rich and worthwhile. \nThis practice is restricted to practitioners who hold a Highest Yoga Tantra empowerment \nPlease register using the link below before attending this event. \nAs part of our commitment to care for your spiritual wellbeing\, and that of our teachers and the center as a whole\, we kindly ask everyone who wishes to engage in this practice answer a few short questions about their practice background. Please click the button below to enquire about how to join for this practice. \nRegister Here
URL:https://jamyang.co.uk/whats-on/lama-chopa-and-tsog-offering-guru-puja/2026-04-26/
LOCATION:In-person\, The Old Courthouse\, 43 Renfrew Road\, London\, London\, SE11 4NA\, United Kingdom
CATEGORIES:Buddhist Practice
ATTACH;FMTTYPE=image/jpeg:https://jamyang.co.uk/wp-content/uploads/2025/09/LamaChopa-Jorcho.jpg
END:VEVENT
END:VCALENDAR