BEGIN:VCALENDAR
VERSION:2.0
PRODID:-//Jamyang London Buddhist Centre - ECPv6.15.18//NONSGML v1.0//EN
CALSCALE:GREGORIAN
METHOD:PUBLISH
X-ORIGINAL-URL:https://jamyang.co.uk
X-WR-CALDESC:Events for Jamyang London Buddhist Centre
REFRESH-INTERVAL;VALUE=DURATION:PT1H
X-Robots-Tag:noindex
X-PUBLISHED-TTL:PT1H
BEGIN:VTIMEZONE
TZID:Europe/London
BEGIN:DAYLIGHT
TZOFFSETFROM:+0000
TZOFFSETTO:+0100
TZNAME:BST
DTSTART:20250330T010000
END:DAYLIGHT
BEGIN:STANDARD
TZOFFSETFROM:+0100
TZOFFSETTO:+0000
TZNAME:GMT
DTSTART:20251026T010000
END:STANDARD
BEGIN:DAYLIGHT
TZOFFSETFROM:+0000
TZOFFSETTO:+0100
TZNAME:BST
DTSTART:20260329T010000
END:DAYLIGHT
BEGIN:STANDARD
TZOFFSETFROM:+0100
TZOFFSETTO:+0000
TZNAME:GMT
DTSTART:20261025T010000
END:STANDARD
BEGIN:DAYLIGHT
TZOFFSETFROM:+0000
TZOFFSETTO:+0100
TZNAME:BST
DTSTART:20270328T010000
END:DAYLIGHT
BEGIN:STANDARD
TZOFFSETFROM:+0100
TZOFFSETTO:+0000
TZNAME:GMT
DTSTART:20271031T010000
END:STANDARD
END:VTIMEZONE
BEGIN:VEVENT
DTSTART;VALUE=DATE:20260218
DTEND;VALUE=DATE:20260219
DTSTAMP:20260426T012952
CREATED:20260109T110205Z
LAST-MODIFIED:20260109T121711Z
UID:10003502-1771401600-1771434000@jamyang.co.uk
SUMMARY:Lama Chopa and Tsog Offering (Guru Puja)
DESCRIPTION:Lama Chopa (also known as Guru Puja) is a practice of guru devotion special to the Gelugpa tradition. During this practice\, the lamas of the graduated path lineage beginning with Shakyamuni Buddha himself\, are invoked\, extending to present direct teachers who have shown the path. Practitioners pay homage\, make offerings\, and request each of them to please bless their minds with the same realizations that they themselves have generated. By offering sincere\, heartfelt requests\, students make their minds ripe to receive the full blessings of this precious lineage and quickly actualize the realizations they need to attain enlightenment. If you wish to experience realizations quickly\, the practice of Lama Chopa is indispensable. \nThe benefits of the practice according to Lama Zopa Rinpoche: \nPracticing this Guru Puja\, which is an integration of the three deities\, makes it much easier to achieve enlightenment in a brief life of this degenerated time. Doing this practice every day\, with purification and many infinite skies of merit\, brings the mind closer to the path to enlightenment and closer to enlightenment itself\, and so much closer to freeing all sentient beings from obscurations and suffering and leading them to enlightenment. Putting the meaning of this into practice in one’s life makes each day extremely rich and worthwhile. \nThis practice is restricted to practitioners who hold a Highest Yoga Tantra empowerment \nPlease register using the link below before attending this event. \nAs part of our commitment to care for your spiritual wellbeing\, and that of our teachers and the center as a whole\, we kindly ask everyone who wishes to engage in this practice answer a few short questions about their practice background. Please click the button below to enquire about how to join for this practice. \nRegister Here
URL:https://jamyang.co.uk/whats-on/lama-chopa-and-tsog-offering-guru-puja/2026-02-18/
LOCATION:In-person\, The Old Courthouse\, 43 Renfrew Road\, London\, London\, SE11 4NA\, United Kingdom
CATEGORIES:Buddhist Practice
ATTACH;FMTTYPE=image/jpeg:https://jamyang.co.uk/wp-content/uploads/2025/09/LamaChopa-Jorcho.jpg
END:VEVENT
BEGIN:VEVENT
DTSTART;TZID=Europe/London:20260218T170000
DTEND;TZID=Europe/London:20260218T174500
DTSTAMP:20260426T012952
CREATED:20260204T160924Z
LAST-MODIFIED:20260204T161349Z
UID:10003587-1771434000-1771436700@jamyang.co.uk
SUMMARY:Losar Shakyamuni Buddha Puja
DESCRIPTION:Join the Jamyang community for this very special Losar celebration and Shakyamuni Buddha Puja. \n  \nThis practice commemorates the start of the fifteen days of miracles when Guru Shakyamuni Buddha showed miraculous powers to inspire faith in his followers. All fifteen days are merit multiplying days\, when the merit of virtuous actions performed on each of these days is multiplied by 100 million\, according to the vinaya text Treasure of Quotations and Logic. \n  \nWe will be using the abridged Shakyamuni Buddha Puja text. The prayers will be screenshared during the session\, but it’s also possible to download them to your device beforehand. \n  \nHow to Join \nYou are welcome to come to the centre to participate in-person\, or join online via livestream on the Jamyang YouTube channel. You can also join the livestream by returning to this page when the event is due to start. There is no need to register in advance.
URL:https://jamyang.co.uk/whats-on/losar-shakyamuni-buddha-puja/
LOCATION:Hybrid\, 43 Renfrew Road\, London\, London\, SE11 4NA\, United Kingdom
CATEGORIES:Buddhist Practice,Buddhist Special Event
ATTACH;FMTTYPE=image/jpeg:https://jamyang.co.uk/wp-content/uploads/2026/02/Buddha-Shakyamuni-Peter-Islie-960x959-1.jpg
END:VEVENT
BEGIN:VEVENT
DTSTART;TZID=Europe/London:20260219T170000
DTEND;TZID=Europe/London:20260219T180000
DTSTAMP:20260426T012952
CREATED:20260119T113331Z
LAST-MODIFIED:20260119T113332Z
UID:10003222-1771520400-1771524000@jamyang.co.uk
SUMMARY:Medicine Buddha Puja
DESCRIPTION:About Medicine Buddha Puja \n\nIn Person Only\n\nPujas are rituals in which consecrated offerings – such as food\, water\, light and incense – are made to an enlightened being for the sake of creating conditions for progress on the spiritual path\, as well as removing obstacles. These offerings are made alongside prayer and chanting. \nThe seven Medicine Buddhas\, attainers of bliss\, strongly prayed for the temporal and ultimate happiness of yourself and all sentient beings. They vowed that their prayers would be actualized during these degenerate times when the teachings of Shakyamuni Buddha are in decline. As the buddhas’ holy speech is irrevocable\, you can wholly trust in their power to quickly grant blessings to help all sentient beings in these degenerate times\,” Lama Zopa Rinpoche instructs  “If you pray to Guru Medicine Buddha\, you will quickly accomplish all that you wish. Just hearing the holy name of Guru Medicine Buddha and the sound of his mantra closes the door to rebirth in the suffering lower realms. It is written in the scriptures that you should not have a two-pointed mind (doubt) with regard to these benefits”. \nHow can I join?\nJust turn up!
URL:https://jamyang.co.uk/whats-on/medicine-buddha-puja-3-3-2-5-4/
LOCATION:In-person\, The Old Courthouse\, 43 Renfrew Road\, London\, London\, SE11 4NA\, United Kingdom
CATEGORIES:Buddhist Practice,Community Yoga
ATTACH;FMTTYPE=image/jpeg:https://jamyang.co.uk/wp-content/uploads/2022/07/Event-Banners-2023-templates-web-.jpg
END:VEVENT
END:VCALENDAR