BEGIN:VCALENDAR
VERSION:2.0
PRODID:-//Jamyang London Buddhist Centre - ECPv6.15.18//NONSGML v1.0//EN
CALSCALE:GREGORIAN
METHOD:PUBLISH
X-WR-CALNAME:Jamyang London Buddhist Centre
X-ORIGINAL-URL:https://jamyang.co.uk
X-WR-CALDESC:Events for Jamyang London Buddhist Centre
REFRESH-INTERVAL;VALUE=DURATION:PT1H
X-Robots-Tag:noindex
X-PUBLISHED-TTL:PT1H
BEGIN:VTIMEZONE
TZID:Europe/London
BEGIN:DAYLIGHT
TZOFFSETFROM:+0000
TZOFFSETTO:+0100
TZNAME:BST
DTSTART:20250330T010000
END:DAYLIGHT
BEGIN:STANDARD
TZOFFSETFROM:+0100
TZOFFSETTO:+0000
TZNAME:GMT
DTSTART:20251026T010000
END:STANDARD
BEGIN:DAYLIGHT
TZOFFSETFROM:+0000
TZOFFSETTO:+0100
TZNAME:BST
DTSTART:20260329T010000
END:DAYLIGHT
BEGIN:STANDARD
TZOFFSETFROM:+0100
TZOFFSETTO:+0000
TZNAME:GMT
DTSTART:20261025T010000
END:STANDARD
BEGIN:DAYLIGHT
TZOFFSETFROM:+0000
TZOFFSETTO:+0100
TZNAME:BST
DTSTART:20270328T010000
END:DAYLIGHT
BEGIN:STANDARD
TZOFFSETFROM:+0100
TZOFFSETTO:+0000
TZNAME:GMT
DTSTART:20271031T010000
END:STANDARD
END:VTIMEZONE
BEGIN:VEVENT
DTSTART;TZID=Europe/London:20260413T181500
DTEND;TZID=Europe/London:20260413T194500
DTSTAMP:20260425T203406
CREATED:20250731T114819Z
LAST-MODIFIED:20251119T100926Z
UID:10003083-1776104100-1776109500@jamyang.co.uk
SUMMARY:Recovery Dharma
DESCRIPTION:About this event \n\nIn-person Only\n\n A weekly meeting of Recovery Dharma\, a peer-led group that uses Buddhist practices and principles to find freedom from the suffering of addiction. Our program uses The Four Noble Truths and The Eightfold Path as a guide for our recovery. Meetings are a chance to come together to support recovery through the practice of mindfulness\, self-inquiry\, meditation\, study of the Dharma\, listening to each other\, and building community. \nWhat can I expect? \nEach meeting offers short readings\, a 15-20 minute meditation\, and group sharing in a compassionate\, non-judgemental space. Our meetings are free\, relying on the generosity of members to support our meeting space where possible. We ask attendees to respect the anonymity and confidentiality of all participants. \nWhat this is for?  \nRecovery Dharma welcomes anyone who is looking to heal from addiction and addictive behavior\, whether it involves substance use or process addictions like gambling\, compulsive use of sex or relationships\, technology\, codependency\, eating disorders\, self-harm\, or any obsessive or habitual pattern that creates suffering.  \nYou do not have to identify as a Buddhist nor have any experience of meditation to attend; this is a program of empowerment and doesn’t ask us to believe in anything other than our own potential to change and heal. \nAbout the facilitator \nThis meeting is facilitated by volunteers from the Recovery Dharma London Sangha.  \nRecovery Dharma is a Buddhist-inspired non-profit peer-led movement that is unified by our trust in the potential of each of us to heal from addiction. More information at recoverydharma.org \nHow to join?\nNo need of booking\, people are welcome to just turn up. \n  \nPLEASE NOTE: This event is hosted at Jamyang Buddhist Centre but is independently organised and facilitated by a third party. Jamyang is not responsible for the content\, facilitation\, or safeguarding arrangements of this event. For more information or any concerns\, please contact the organisers directly via recoverydharma.org.
URL:https://jamyang.co.uk/whats-on/recovery-dharma-3-4-2/2026-04-13/
LOCATION:In-person\, The Old Courthouse\, 43 Renfrew Road\, London\, London\, SE11 4NA\, United Kingdom
CATEGORIES:Community Activities
ATTACH;FMTTYPE=image/png:https://jamyang.co.uk/wp-content/uploads/2025/01/Recovery-Dharma-Graphic.png
END:VEVENT
BEGIN:VEVENT
DTSTART;TZID=Europe/London:20260416T183000
DTEND;TZID=Europe/London:20260416T200000
DTSTAMP:20260425T203406
CREATED:20260411T164512Z
LAST-MODIFIED:20260422T132926Z
UID:10004166-1776364200-1776369600@jamyang.co.uk
SUMMARY:Bereavement Café
DESCRIPTION:Are you recently bereaved and wish you could chat or just listen openly in a group with no set agenda with those who have had similar experiences? Come along for tea and cake. \nAlthough the café is held in a Buddhist centre it is a secular get together. \nFacilitator \nVenerable Barbara Shannon\, is a fully ordained nun\, former NHS nurse\, and a long-standing member of the Jamyang Buddhist Centre London. She is actively engaged in the local London communities helping people with issues around death and dying. She regularly leads the Death Cafe at Centre\, with her unique and engaging style of presenting. \nPlease note: \nBereavement Café is a space for open and confidential discussion. It is not a counselling or support service. If you are recently bereaved and are seeking professional support\, please contact your GP or a relevant service for advice\, such as Cruse Bereavement Care. \nHow to join? \nThe space is limited\, so we suggest you save your spot ahead of time. Alternatively\, you can just drop-in. \nThe event is free. Donations are welcome in support of running the Bereavement Café.
URL:https://jamyang.co.uk/whats-on/bereavement-cafe/2026-04-16/
LOCATION:In-person\, The Old Courthouse\, 43 Renfrew Road\, London\, London\, SE11 4NA\, United Kingdom
CATEGORIES:Community Activities,Death Cafe & Dying Well
ATTACH;FMTTYPE=image/jpeg:https://jamyang.co.uk/wp-content/uploads/2024/12/Bereavement-Cafe.jpg
END:VEVENT
BEGIN:VEVENT
DTSTART;TZID=Europe/London:20260419T110000
DTEND;TZID=Europe/London:20260419T123000
DTSTAMP:20260425T203406
CREATED:20260122T115249Z
LAST-MODIFIED:20260416T132136Z
UID:10003562-1776596400-1776601800@jamyang.co.uk
SUMMARY:Sunday Dharma Talk with Geshe Tashi
DESCRIPTION:Curious about Buddhism\, or looking to reconnect with its timeless wisdom in everyday life? Our Sunday Dharma Talks offer a welcoming and relaxed space to explore Buddhist teachings in a way that is both practical and relatable. \nThese informal talks are led by a rotating group of experienced Buddhist teachers and meditation instructors\, each bringing many years of lived practice to their teaching. On the third Sunday of each month\, they share insights drawn from the Buddhist tradition and from real life – speaking in a down-to-earth way that meets us exactly where we are. \nThis month we are both honoured and excited to be welcoming Jamyang’s former resident teacher\, Geshe Tashi Tsering to the podium. Much loved in the UK and in India for his warm-hearted wisdom\, Geshe Tashi is currently fulfilling the wishes of HH the Dalai Lama by serving as Director of the Dalai Lama Centre for Tibetan and Indian Ancient Wisdom in Bodhgaya\, India. The topic of his talk with us will focus on the groundbreaking work of this initiative at the forefront of the confluence between ancient wisdom and modern science & technology. \nFormat: Hybrid (In-person & on zoom)\nWhen: Third Sunday of each month\nSuggested donation: £15 per session \nHow to Join? \nThe teaching will take place at Jamyang with the option to join remotely over zoom. Please select the relevant option when registering below. \nDonation \nJamyang operates on a generosity model. Please select the donation option that is most suitable for your situation. \nJamyang is a non-profit charitable organisation that relies on the kindness of our donors\, including students and community members. The donations\, or Dana\, given when registering for events and teachings support the Centre’s operations\, allowing us to deliver our activities. If you’re able to give a little more\, that’s wonderful; if a little less\, that’s fine too. These donations help with essentials like feeding residential volunteers\, housing our monastics\, and keeping our doors open. However\, we wish to emphasise that the Dharma is always offered freely and no-one is ever excluded because of their financial status\, please do not hesitate to request a reduced rate. \n\nFor Monastics \nWe would like to offer this teaching to ordained sangha members for free. If you are ordained sangha please register here.
URL:https://jamyang.co.uk/whats-on/sunday-dharma-talks-2/
LOCATION:Hybrid\, 43 Renfrew Road\, London\, London\, SE11 4NA\, United Kingdom
CATEGORIES:Buddhist Philosophy,Buddhist Special Event,Community Activities
ATTACH;FMTTYPE=image/jpeg:https://jamyang.co.uk/wp-content/uploads/2026/01/Sunday-Dharma-Talk-with-Geshe-Tashi.jpg
END:VEVENT
END:VCALENDAR