BEGIN:VCALENDAR
VERSION:2.0
PRODID:-//Jamyang London Buddhist Centre - ECPv6.15.18//NONSGML v1.0//EN
CALSCALE:GREGORIAN
METHOD:PUBLISH
X-WR-CALNAME:Jamyang London Buddhist Centre
X-ORIGINAL-URL:https://jamyang.co.uk
X-WR-CALDESC:Events for Jamyang London Buddhist Centre
REFRESH-INTERVAL;VALUE=DURATION:PT1H
X-Robots-Tag:noindex
X-PUBLISHED-TTL:PT1H
BEGIN:VTIMEZONE
TZID:Europe/London
BEGIN:DAYLIGHT
TZOFFSETFROM:+0000
TZOFFSETTO:+0100
TZNAME:BST
DTSTART:20250330T010000
END:DAYLIGHT
BEGIN:STANDARD
TZOFFSETFROM:+0100
TZOFFSETTO:+0000
TZNAME:GMT
DTSTART:20251026T010000
END:STANDARD
BEGIN:DAYLIGHT
TZOFFSETFROM:+0000
TZOFFSETTO:+0100
TZNAME:BST
DTSTART:20260329T010000
END:DAYLIGHT
BEGIN:STANDARD
TZOFFSETFROM:+0100
TZOFFSETTO:+0000
TZNAME:GMT
DTSTART:20261025T010000
END:STANDARD
BEGIN:DAYLIGHT
TZOFFSETFROM:+0000
TZOFFSETTO:+0100
TZNAME:BST
DTSTART:20270328T010000
END:DAYLIGHT
BEGIN:STANDARD
TZOFFSETFROM:+0100
TZOFFSETTO:+0000
TZNAME:GMT
DTSTART:20271031T010000
END:STANDARD
END:VTIMEZONE
BEGIN:VEVENT
DTSTART;TZID=Europe/London:20260622T183000
DTEND;TZID=Europe/London:20260622T200000
DTSTAMP:20260425T222729
CREATED:20260411T164512Z
LAST-MODIFIED:20260422T132926Z
UID:10004190-1782153000-1782158400@jamyang.co.uk
SUMMARY:Bereavement Café
DESCRIPTION:Are you recently bereaved and wish you could chat or just listen openly in a group with no set agenda with those who have had similar experiences? Come along for tea and cake. \nAlthough the café is held in a Buddhist centre it is a secular get together. \nFacilitator \nVenerable Barbara Shannon\, is a fully ordained nun\, former NHS nurse\, and a long-standing member of the Jamyang Buddhist Centre London. She is actively engaged in the local London communities helping people with issues around death and dying. She regularly leads the Death Cafe at Centre\, with her unique and engaging style of presenting. \nPlease note: \nBereavement Café is a space for open and confidential discussion. It is not a counselling or support service. If you are recently bereaved and are seeking professional support\, please contact your GP or a relevant service for advice\, such as Cruse Bereavement Care. \nHow to join? \nThe space is limited\, so we suggest you save your spot ahead of time. Alternatively\, you can just drop-in. \nThe event is free. Donations are welcome in support of running the Bereavement Café.
URL:https://jamyang.co.uk/whats-on/bereavement-cafe/2026-06-22/
LOCATION:In-person\, The Old Courthouse\, 43 Renfrew Road\, London\, London\, SE11 4NA\, United Kingdom
CATEGORIES:Community Activities,Death Cafe & Dying Well
ATTACH;FMTTYPE=image/jpeg:https://jamyang.co.uk/wp-content/uploads/2024/12/Bereavement-Cafe.jpg
END:VEVENT
END:VCALENDAR