BEGIN:VCALENDAR
VERSION:2.0
PRODID:-//Jamyang London Buddhist Centre - ECPv6.15.18//NONSGML v1.0//EN
CALSCALE:GREGORIAN
METHOD:PUBLISH
X-WR-CALNAME:Jamyang London Buddhist Centre
X-ORIGINAL-URL:https://jamyang.co.uk
X-WR-CALDESC:Events for Jamyang London Buddhist Centre
REFRESH-INTERVAL;VALUE=DURATION:PT1H
X-Robots-Tag:noindex
X-PUBLISHED-TTL:PT1H
BEGIN:VTIMEZONE
TZID:Europe/London
BEGIN:DAYLIGHT
TZOFFSETFROM:+0000
TZOFFSETTO:+0100
TZNAME:BST
DTSTART:20250330T010000
END:DAYLIGHT
BEGIN:STANDARD
TZOFFSETFROM:+0100
TZOFFSETTO:+0000
TZNAME:GMT
DTSTART:20251026T010000
END:STANDARD
BEGIN:DAYLIGHT
TZOFFSETFROM:+0000
TZOFFSETTO:+0100
TZNAME:BST
DTSTART:20260329T010000
END:DAYLIGHT
BEGIN:STANDARD
TZOFFSETFROM:+0100
TZOFFSETTO:+0000
TZNAME:GMT
DTSTART:20261025T010000
END:STANDARD
BEGIN:DAYLIGHT
TZOFFSETFROM:+0000
TZOFFSETTO:+0100
TZNAME:BST
DTSTART:20270328T010000
END:DAYLIGHT
BEGIN:STANDARD
TZOFFSETFROM:+0100
TZOFFSETTO:+0000
TZNAME:GMT
DTSTART:20271031T010000
END:STANDARD
END:VTIMEZONE
BEGIN:VEVENT
DTSTART;TZID=Europe/London:20260413T173000
DTEND;TZID=Europe/London:20260413T180000
DTSTAMP:20260424T170720
CREATED:20251001T113113Z
LAST-MODIFIED:20251126T095055Z
UID:10003143-1776101400-1776103200@jamyang.co.uk
SUMMARY:Group Meditation Practice
DESCRIPTION:Start your week off right and banish stress and anxiety with the power of meditation. \nJoin us for this 30-minute unguided session in which we come together to sit in silent meditation practice as a group. \nMeditation is a simple practice available to all\, which can reduce stress\, increase calmness and clarity and promote happiness. Learning how to meditate is straightforward\, and the benefits can come quickly. \nPlease note this session is unguided. For guided meditations\, check out our Tuesday and Sunday sessions. \nHow to join? Just drop-in!
URL:https://jamyang.co.uk/whats-on/group-meditation-practice-2-4/2026-04-13/
LOCATION:In-person\, The Old Courthouse\, 43 Renfrew Road\, London\, London\, SE11 4NA\, United Kingdom
CATEGORIES:Meditation
ATTACH;FMTTYPE=image/jpeg:https://jamyang.co.uk/wp-content/uploads/2025/07/Monday-Meditation-with-Geshe-Namdak.jpg
END:VEVENT
BEGIN:VEVENT
DTSTART;TZID=Europe/London:20260415T183000
DTEND;TZID=Europe/London:20260415T200000
DTSTAMP:20260424T170720
CREATED:20260122T113458Z
LAST-MODIFIED:20260407T150729Z
UID:10003559-1776277800-1776283200@jamyang.co.uk
SUMMARY:Meditation for Beginners
DESCRIPTION:Meditation is a skill anyone can learn. This 9-week introductory course is designed to give you clear\, practical tools to begin meditating with confidence\, even if you’ve never tried it before. Learn the basics\, build confidence\, and take your first steps into meditation. \nAbout the course\nA 9-week meditation course designed for complete beginners and those who wish to revitalize or deepen their meditation practice. Starting with the very basics of how and where to sit\, progressing through non-analytical\, stabilising meditations\, to a variety of analytical meditations. The course will look at both the benefits and practicalities of building our own practice at home and explore some of the problems we might encounter. \nThe analytical meditations will cover a variety of Lam Rim topics including\, Mindfulness of Death\, Loving Kindness\, Impermanence\, Emptiness and meditations on the Clarity and Continuity of mind. The course will also look at a number of non-analytical stabilising meditations including walking meditations and introduce visualisation meditation techniques. \nThe course is designed to build week-on-week though every attempt has been made to make each week as self-contained as possible. All are very welcome to attend either on a regular or on an ad hoc basis. Each week hand-outs of some of the main points and practices will be distributed. \nSchedule\nWhen: Wednesdays\, 6:30 – 8:00 pm\nDates: March 4th – April 29th\nFormat: Hybrid\nSuggested donation: £15 per class \nAbout the Teacher\nDavid\, initially trained as an accountant and computer programmer and later as a professional gardener. He has practised meditation from an early age but was first taught specifically Buddhist Mahayana meditations during the residential 10-day introduction course at the FPMT’s Tushita Meditation Centre in 1996.  Since then\, he has studied the FPMT’s Discovering Buddhism course and is a graduate of Geshe Tashi’s\, Foundations Of Buddhist Thought.  He regularly co-led the Monday night Meditation and Relaxation at Jamyang from 2002 – 2007 and has helped lead a number of modules of other courses offered at Jamyang though to 2019.  Ex-Trustee and Treasurer of Jamyang and sometime Jamyang gardener\, David’s relaxed style aims to encourage everybody to share his fascination and enthusiasm for the gentle practice of meditation. \nIs this for me?\nAll levels welcome! Whether you consider yourself a meditator\, a practising Buddhist or somebody who is just interested\, this course will convey essentially practical advice on how to gently understand your own mind and in doing so claim your own small piece of calm. \nHow to Join\nRegister below or simply turn up on the day! We recommend registering if you can\, as this helps the organiser plan effectively. Your donation supports the centre and helps us stay open and affordable for all. If you need a concession on the price shown below\, please come along on the day\, no one will be turned away due to lack of funds. \nIt is now possible to join the sessions remotely via Zoom. Register using the online ticket option below or email us at gateway@jamyang.co.uk for a concessionary rate. \nJamyang is a non-profit charitable organisation that relies on the kindness of our donors\, including students and community members. The donations\, or Dana\, given when registering for events and teachings support the Centre’s operations\, allowing us to deliver our activities.
URL:https://jamyang.co.uk/whats-on/meditation-for-beginners-6/
LOCATION:Hybrid\, 43 Renfrew Road\, London\, London\, SE11 4NA\, United Kingdom
CATEGORIES:Buddhist Meditation,Meditation
ATTACH;FMTTYPE=image/jpeg:https://jamyang.co.uk/wp-content/uploads/2026/01/Meditation-for-Beginners-Web-Banner-2026-1.jpg
END:VEVENT
BEGIN:VEVENT
DTSTART;TZID=Europe/London:20260419T093000
DTEND;TZID=Europe/London:20260419T103000
DTSTAMP:20260424T170720
CREATED:20251126T104900Z
LAST-MODIFIED:20260311T123153Z
UID:10003296-1776591000-1776594600@jamyang.co.uk
SUMMARY:How to Meditate
DESCRIPTION:Drop-in meditation on Sunday\nStart your week off right and banish stress and anxiety with the power of meditation. \nThese meditation drop-in sessions are secular and have been created so that like-minded people can meet\, meditate and learn how to meditate together. \nCome to Discover what meditation is\nMeditation is a simple practice available to all\, which can reduce stress\, increase calmness and clarity and promote happiness. Learning how to meditate is straightforward\, and the benefits can come quickly. \nThese meditation sessions provide a much-needed respite from the hustle and bustle of city life\, allowing individuals to find inner peace and tranquility. Whether you are seeking solace\, stress relief\, or simply a moment of stillness\, these meditations offer a valuable opportunity to cultivate a sense of well-being in the midst of our fast-paced world. \nIn this drop-in meditation session\, you will have the chance to experience a 60-minute guided meditation. This is an in-person gathering where you can connect with like-minded individuals and explore the transformative power of meditation. \nDon’t miss out on this incredible opportunity to find inner calm and uncover the true essence of life. Join us at Jamyang London Buddhist Centre and embark on a journey of self-discovery and enlightenment. \nIs meditation for me?\nThis class is for beginners and all who wish to develop basic meditation methods which they can apply to improve their daily lives\, whether or not they identify as Buddhists\, and regardless of their prior experience with meditation. \nBy creating a welcoming and inclusive environment\, these meditation sessions encourage individuals from all walks of life to come together and embark on a journey of self-discovery and mindfulness. These meditations are for everyone\, regardless of their religious or cultural background. \nLed by experienced guides\, these meditations offer a gentle introduction to the practice\, ensuring that participants feel comfortable and supported throughout the process. However\, they also cater to those who may have some familiarity with meditation\, providing an opportunity for individuals to deepen their meditation practice. \nDrop-in Meditation: What can I expect?\n\nDrop-in Meditation\n60-minute guided meditation on Sunday Morning\nIn-person only\nMeditation led by Roy Sutherwood\nDonations are welcome\n\nMeditation Leader\nRoy Sutherwood is a former Trustee and Director of Jamyang London Buddhist Centre\, and an FPMT recognised teacher. He has studied under masters of Buddhist philosophy and meditation for many years. He facilitates classes in Tibetan Buddhism at the Buddhist Society and is also a qualified teacher of secular Mindfulness techniques. \nHow to join?\nBook now on eventbrite \n\n\n\n\nWe suggest saving your spot ahead of time to help the facilitator to organise the event. \nDonations are welcome: Jamyang relies on the kind donations of those who attend activities in the centre.The funds enable us to offer this type of class on a regular basis – we thank you for your generosity.
URL:https://jamyang.co.uk/whats-on/how-to-meditate/2026-04-19/
LOCATION:Tara Room at Jamyang\, 43 Renfrew Road\, London\, London\, SE11 4NA\, United Kingdom
CATEGORIES:Buddhist Meditation,Meditation
ATTACH;FMTTYPE=image/jpeg:https://jamyang.co.uk/wp-content/uploads/2024/11/How-to-Meditate-Banner.jpg
END:VEVENT
END:VCALENDAR