BEGIN:VCALENDAR
VERSION:2.0
PRODID:-//Jamyang London Buddhist Centre - ECPv6.15.18//NONSGML v1.0//EN
CALSCALE:GREGORIAN
METHOD:PUBLISH
X-WR-CALNAME:Jamyang London Buddhist Centre
X-ORIGINAL-URL:https://jamyang.co.uk
X-WR-CALDESC:Events for Jamyang London Buddhist Centre
REFRESH-INTERVAL;VALUE=DURATION:PT1H
X-Robots-Tag:noindex
X-PUBLISHED-TTL:PT1H
BEGIN:VTIMEZONE
TZID:Europe/London
BEGIN:DAYLIGHT
TZOFFSETFROM:+0000
TZOFFSETTO:+0100
TZNAME:BST
DTSTART:20250330T010000
END:DAYLIGHT
BEGIN:STANDARD
TZOFFSETFROM:+0100
TZOFFSETTO:+0000
TZNAME:GMT
DTSTART:20251026T010000
END:STANDARD
BEGIN:DAYLIGHT
TZOFFSETFROM:+0000
TZOFFSETTO:+0100
TZNAME:BST
DTSTART:20260329T010000
END:DAYLIGHT
BEGIN:STANDARD
TZOFFSETFROM:+0100
TZOFFSETTO:+0000
TZNAME:GMT
DTSTART:20261025T010000
END:STANDARD
BEGIN:DAYLIGHT
TZOFFSETFROM:+0000
TZOFFSETTO:+0100
TZNAME:BST
DTSTART:20270328T010000
END:DAYLIGHT
BEGIN:STANDARD
TZOFFSETFROM:+0100
TZOFFSETTO:+0000
TZNAME:GMT
DTSTART:20271031T010000
END:STANDARD
END:VTIMEZONE
BEGIN:VEVENT
DTSTART;TZID=Europe/London:20260727T173000
DTEND;TZID=Europe/London:20260727T180000
DTSTAMP:20260425T121550
CREATED:20251001T113113Z
LAST-MODIFIED:20251126T095055Z
UID:10003158-1785173400-1785175200@jamyang.co.uk
SUMMARY:Group Meditation Practice
DESCRIPTION:Start your week off right and banish stress and anxiety with the power of meditation. \nJoin us for this 30-minute unguided session in which we come together to sit in silent meditation practice as a group. \nMeditation is a simple practice available to all\, which can reduce stress\, increase calmness and clarity and promote happiness. Learning how to meditate is straightforward\, and the benefits can come quickly. \nPlease note this session is unguided. For guided meditations\, check out our Tuesday and Sunday sessions. \nHow to join? Just drop-in!
URL:https://jamyang.co.uk/whats-on/group-meditation-practice-2-4/2026-07-27/
LOCATION:In-person\, The Old Courthouse\, 43 Renfrew Road\, London\, London\, SE11 4NA\, United Kingdom
CATEGORIES:Meditation
ATTACH;FMTTYPE=image/jpeg:https://jamyang.co.uk/wp-content/uploads/2025/07/Monday-Meditation-with-Geshe-Namdak.jpg
END:VEVENT
END:VCALENDAR