BEGIN:VCALENDAR
VERSION:2.0
PRODID:-//Jamyang London Buddhist Centre - ECPv6.15.18//NONSGML v1.0//EN
CALSCALE:GREGORIAN
METHOD:PUBLISH
X-WR-CALNAME:Jamyang London Buddhist Centre
X-ORIGINAL-URL:https://jamyang.co.uk
X-WR-CALDESC:Events for Jamyang London Buddhist Centre
REFRESH-INTERVAL;VALUE=DURATION:PT1H
X-Robots-Tag:noindex
X-PUBLISHED-TTL:PT1H
BEGIN:VTIMEZONE
TZID:Europe/London
BEGIN:DAYLIGHT
TZOFFSETFROM:+0000
TZOFFSETTO:+0100
TZNAME:BST
DTSTART:20220327T010000
END:DAYLIGHT
BEGIN:STANDARD
TZOFFSETFROM:+0100
TZOFFSETTO:+0000
TZNAME:GMT
DTSTART:20221030T010000
END:STANDARD
BEGIN:DAYLIGHT
TZOFFSETFROM:+0000
TZOFFSETTO:+0100
TZNAME:BST
DTSTART:20230326T010000
END:DAYLIGHT
BEGIN:STANDARD
TZOFFSETFROM:+0100
TZOFFSETTO:+0000
TZNAME:GMT
DTSTART:20231029T010000
END:STANDARD
BEGIN:DAYLIGHT
TZOFFSETFROM:+0000
TZOFFSETTO:+0100
TZNAME:BST
DTSTART:20240331T010000
END:DAYLIGHT
BEGIN:STANDARD
TZOFFSETFROM:+0100
TZOFFSETTO:+0000
TZNAME:GMT
DTSTART:20241027T010000
END:STANDARD
BEGIN:DAYLIGHT
TZOFFSETFROM:+0000
TZOFFSETTO:+0100
TZNAME:BST
DTSTART:20250330T010000
END:DAYLIGHT
BEGIN:STANDARD
TZOFFSETFROM:+0100
TZOFFSETTO:+0000
TZNAME:GMT
DTSTART:20251026T010000
END:STANDARD
END:VTIMEZONE
BEGIN:VEVENT
DTSTART;TZID=Europe/London:20240921T100000
DTEND;TZID=Europe/London:20240921T160000
DTSTAMP:20260421T193915
CREATED:20240703T105809Z
LAST-MODIFIED:20240920T200236Z
UID:10002439-1726912800-1726934400@jamyang.co.uk
SUMMARY:H.E. Ling Rinpoche: Teachings on Nagarjuna and Amitayus Empowerment
DESCRIPTION:Hosted by Tibet House Trust\, The Tibetan Community in Britain\, Rigpa London and Jamyang Buddhist Centre \n \n \n \n \n \n \nClick here for Prayers and Dedications for Saturdays teachings\n\n  \n  \n 
URL:https://jamyang.co.uk/whats-on/ling-rinpoche-teachings-on-nagarjuna-and-amitayus-empowerment/
LOCATION:The Light Auditorium\, Friends House\, 173-177 Euston Road\, London\, London\, NW1 2BJ\, United Kingdom
END:VEVENT
BEGIN:VEVENT
DTSTART;TZID=Europe/London:20240920T100000
DTEND;TZID=Europe/London:20240920T120000
DTSTAMP:20260421T193915
CREATED:20240830T101011Z
LAST-MODIFIED:20240912T130246Z
UID:10002473-1726826400-1726833600@jamyang.co.uk
SUMMARY:Dzambhala Initiation with H.E. Ling Rinpoche
DESCRIPTION:
URL:https://jamyang.co.uk/whats-on/dzambhala-initiation-with-h-e-ling-rinpoche/
LOCATION:In-person\, The Old Courthouse\, 43 Renfrew Road\, London\, London\, SE11 4NA\, United Kingdom
CATEGORIES:Buddhist Special Event
END:VEVENT
BEGIN:VEVENT
DTSTART;TZID=Europe/London:20230718T190000
DTEND;TZID=Europe/London:20230718T200000
DTSTAMP:20260421T193916
CREATED:20230705T094453Z
LAST-MODIFIED:20230705T094455Z
UID:10000461-1689706800-1689710400@jamyang.co.uk
SUMMARY:Dharma Cafe
DESCRIPTION:About this event\nDharma Café is a discussion group for anyone interested in the Buddhist worldview and way of life. \nAll are welcome\, whether experienced students or completely new to Buddhism. \n  \nWhat can I expect?\nLight-hearted conversation on various topics of Buddhist philosophy\, Buddhist psychology and Buddhist practice over some light refreshments. \nA Dharma Cafe is a group-directed discussion of Buddhism with no agenda\, objectives or themes to discuss the Buddhist teachings and to share ideas and reflections in a fun\, informal and friendly setting. \nBuddhist teachings can transform our minds\, but only if we think them through thoroughly. As Jamyang’s Resident Teacher\, Geshe Namdak\, says: we have to chew the material! \n\nHow do I join?\nBook your place on Eventbrite \nWe suggest saving your spot ahead of time to help the facilitator to organise the event. \nThese meetups take place in the café space at Jamyang London Buddhist Centre. \nArrive at 19:00 for a 19:15 start.
URL:https://jamyang.co.uk/whats-on/dharma-cafe-2-2/
LOCATION:London
END:VEVENT
BEGIN:VEVENT
DTSTART;TZID=Europe/London:20230711T190000
DTEND;TZID=Europe/London:20230711T200000
DTSTAMP:20260421T193916
CREATED:20230705T094453Z
LAST-MODIFIED:20230705T094455Z
UID:10000460-1689102000-1689105600@jamyang.co.uk
SUMMARY:Dharma Cafe
DESCRIPTION:About this event\nDharma Café is a discussion group for anyone interested in the Buddhist worldview and way of life. \nAll are welcome\, whether experienced students or completely new to Buddhism. \n  \nWhat can I expect?\nLight-hearted conversation on various topics of Buddhist philosophy\, Buddhist psychology and Buddhist practice over some light refreshments. \nA Dharma Cafe is a group-directed discussion of Buddhism with no agenda\, objectives or themes to discuss the Buddhist teachings and to share ideas and reflections in a fun\, informal and friendly setting. \nBuddhist teachings can transform our minds\, but only if we think them through thoroughly. As Jamyang’s Resident Teacher\, Geshe Namdak\, says: we have to chew the material! \n\nHow do I join?\nBook your place on Eventbrite \nWe suggest saving your spot ahead of time to help the facilitator to organise the event. \nThese meetups take place in the café space at Jamyang London Buddhist Centre. \nArrive at 19:00 for a 19:15 start.
URL:https://jamyang.co.uk/whats-on/dharma-cafe-2-2/
LOCATION:London
END:VEVENT
END:VCALENDAR