BEGIN:VCALENDAR
VERSION:2.0
PRODID:-//Jamyang London Buddhist Centre - ECPv6.15.18//NONSGML v1.0//EN
CALSCALE:GREGORIAN
METHOD:PUBLISH
X-WR-CALNAME:Jamyang London Buddhist Centre
X-ORIGINAL-URL:https://jamyang.co.uk
X-WR-CALDESC:Events for Jamyang London Buddhist Centre
REFRESH-INTERVAL;VALUE=DURATION:PT1H
X-Robots-Tag:noindex
X-PUBLISHED-TTL:PT1H
BEGIN:VTIMEZONE
TZID:Europe/London
BEGIN:DAYLIGHT
TZOFFSETFROM:+0000
TZOFFSETTO:+0100
TZNAME:BST
DTSTART:20250330T010000
END:DAYLIGHT
BEGIN:STANDARD
TZOFFSETFROM:+0100
TZOFFSETTO:+0000
TZNAME:GMT
DTSTART:20251026T010000
END:STANDARD
BEGIN:DAYLIGHT
TZOFFSETFROM:+0000
TZOFFSETTO:+0100
TZNAME:BST
DTSTART:20260329T010000
END:DAYLIGHT
BEGIN:STANDARD
TZOFFSETFROM:+0100
TZOFFSETTO:+0000
TZNAME:GMT
DTSTART:20261025T010000
END:STANDARD
BEGIN:DAYLIGHT
TZOFFSETFROM:+0000
TZOFFSETTO:+0100
TZNAME:BST
DTSTART:20270328T010000
END:DAYLIGHT
BEGIN:STANDARD
TZOFFSETFROM:+0100
TZOFFSETTO:+0000
TZNAME:GMT
DTSTART:20271031T010000
END:STANDARD
END:VTIMEZONE
BEGIN:VEVENT
DTSTART;TZID=Europe/London:20260726T140000
DTEND;TZID=Europe/London:20260726T160000
DTSTAMP:20260425T140550
CREATED:20260126T140044Z
LAST-MODIFIED:20260409T185842Z
UID:10003553-1785074400-1785081600@jamyang.co.uk
SUMMARY:Dying Well
DESCRIPTION:About this event \nDying Well is open to anyone interested in exploring more about what a good death might be for themselves and looking at what preparations might be helpful to have a ‘good death’. \n  \nWhat can I expect? \n– A topic relating to death and dying is presented\, and active discussion about the topic is encouraged. \n– Light refreshments provided \n  \nFacilitators \nDiana Opio\, as a trained nurse has been working in palliative care for several decades.  She has also helped set up and run palliative care academic programmes in East Africa. More recently she has become increasingly interested in aspects of spirituality at the end of life and has trained as a soul midwife and has run many death cafes. \nRobin Bath a trustee and community member of Jamyang London Buddhist Centre since its debut. Over the years\, he supported the centre in infinite ways\, as an artist\, poet\, and photographer. He is also the organiser of the ‘Jamyang Walks’\, the ‘Dying Well’ meetings\, and volunteers for the ‘Repaying the Kindness\, Carers Group’. He recently published ‘Climate Change Children’s Voices‘. \n  \nHow to join? \nWe suggest saving your spot ahead of time to help the facilitator organise the event. Alternatively\, you can just drop in.
URL:https://jamyang.co.uk/whats-on/dying-well-2/
LOCATION:In-person\, The Old Courthouse\, 43 Renfrew Road\, London\, London\, SE11 4NA\, United Kingdom
CATEGORIES:Community Activities,Death Cafe & Dying Well
ATTACH;FMTTYPE=image/jpeg:https://jamyang.co.uk/wp-content/uploads/2024/04/Dying-Well-General-Tile-2-e1735904909500.jpg
END:VEVENT
END:VCALENDAR