BEGIN:VCALENDAR
VERSION:2.0
PRODID:-//Jamyang London Buddhist Centre - ECPv6.15.18//NONSGML v1.0//EN
CALSCALE:GREGORIAN
METHOD:PUBLISH
X-WR-CALNAME:Jamyang London Buddhist Centre
X-ORIGINAL-URL:https://jamyang.co.uk
X-WR-CALDESC:Events for Jamyang London Buddhist Centre
REFRESH-INTERVAL;VALUE=DURATION:PT1H
X-Robots-Tag:noindex
X-PUBLISHED-TTL:PT1H
BEGIN:VTIMEZONE
TZID:Europe/London
BEGIN:DAYLIGHT
TZOFFSETFROM:+0000
TZOFFSETTO:+0100
TZNAME:BST
DTSTART:20240331T010000
END:DAYLIGHT
BEGIN:STANDARD
TZOFFSETFROM:+0100
TZOFFSETTO:+0000
TZNAME:GMT
DTSTART:20241027T010000
END:STANDARD
BEGIN:DAYLIGHT
TZOFFSETFROM:+0000
TZOFFSETTO:+0100
TZNAME:BST
DTSTART:20250330T010000
END:DAYLIGHT
BEGIN:STANDARD
TZOFFSETFROM:+0100
TZOFFSETTO:+0000
TZNAME:GMT
DTSTART:20251026T010000
END:STANDARD
BEGIN:DAYLIGHT
TZOFFSETFROM:+0000
TZOFFSETTO:+0100
TZNAME:BST
DTSTART:20260329T010000
END:DAYLIGHT
BEGIN:STANDARD
TZOFFSETFROM:+0100
TZOFFSETTO:+0000
TZNAME:GMT
DTSTART:20261025T010000
END:STANDARD
END:VTIMEZONE
BEGIN:VEVENT
DTSTART;TZID=Europe/London:20250616T183000
DTEND;TZID=Europe/London:20250616T203000
DTSTAMP:20260420T193216
CREATED:20250425T095901Z
LAST-MODIFIED:20260323T164857Z
UID:10003526-1750098600-1750105800@jamyang.co.uk
SUMMARY:Discovering Buddhism 2025-2026
DESCRIPTION:Please note that enrolment on this course has now closed. The course is now available as a self-paced online program! Head over to our Discovering Buddhism Self Study page to learn more.\nDiscovering Buddhism\n\nCourse Details\n\nStart Date: May 5th\, 2025\nSchedule: Mondays\, 6:30-8:30 PM (UK)\nFormat: In-person & Online\nLocation: Jamyang London Buddhist Centre\, Kennington\nTeachers: Geshe Namdak & Ven. Gendun\n\n\nAbout the Course\nHave you ever wondered where modern practices like mindfulness and meditation come from? They have their roots in the timeless teachings of the Buddha\, developed over centuries to help people cultivate peace\, resilience\, and wisdom in their lives. Discovering Buddhism is your opportunity to explore these ancient insights and discover how they remain profoundly relevant today. \nBuddhist teachings may seem vast and complex at first glance\, encompassing philosophy\, psychology\, and practical tools for living a meaningful life. Fortunately\, great masters distilled these teachings into clear\, structured paths to guide students step by step. This course introduces you to these practical frameworks\, helping you make sense of the Buddhist path and its transformative potential. \nThrough Discovering Buddhism\, you’ll explore essential topics like the mind\, karma\, meditation\, and the art of living a compassionate life. Whether you’re looking to deepen your meditation practice\, understand the workings of the mind\, or simply find a greater sense of purpose\, this course will give you the tools and understanding to start—or deepen—your journey. \nThe course is accessible to everyone\, whether you’re completely new to Buddhism or already familiar with mindfulness and mental wellbeing. Taught by the highly respected Geshe Tenzin Namdak\, and offered both in-person and online\, it provides a supportive and welcoming environment to learn and grow. \nStarting May 2025\nStarting in May 2025\, Discovering Buddhism will run every Monday evening at 6:30 pm\, with options for both in-person and online study. This hybrid format ensures you can join wherever you are\, whether you prefer the atmosphere of a classroom or the convenience of learning from home. Recording of each class will be made available for students in time-zones further afield so everyone can access these teachings. \nThe course will be led by two inspiring teachers: Geshe Tenzin Namdak\, a renowned scholar and teacher of Buddhist philosophy\, and Ven. Gendun\, a dedicated monk from Nalanda Monastery with a wealth of experience in Buddhist study and practice. Together\, they’ll provide clear guidance\, relatable insights\, and the opportunity to engage with centuries-old teachings in a way that feels relevant and accessible today \nAbout the Teachers\nGet to know Geshe Namdak and Ven. Gendun\, your expert guides to Discovering Buddhism: \n\n\n \nGeshe Tenzin Namdak\nResident Teacher at Jamyang \nGeshe Tenzin Namdak brings a unique blend of academic rigor\, scientific expertise\, and deep spiritual practice to his teachings. After completing his university studies in Hydrology\, he worked as an environmental researcher in the Netherlands. He began studying Buddhism at Maitreya Institute\, eventually ordaining as a monk under His Holiness the Dalai Lama. \nHe went on to complete the prestigious 20-year Geshe degree—the equivalent of a PhD in Buddhist philosophy—at Sera Jey Monastic University in India\, followed by the traditional one-year Vajrayana study program at Gyume Tantric College. \n\n\n \nVenerable Gendun\nMonk at Nalanda Monastery \nBorn in Sri Lanka and growing up in England\, Ven. Tenzin Gendun studied at art school and finished a degree in illustration. After completing his tertiary studies\, he traveled to India and met Tibetan Buddhism in 1991 through the kindness of Lama Zopa Rinpoche and His Holiness the Dalai Lama. He was ordained in 1992\, and then worked in FPMT centers in New Zealand. \nVen. Gendun moved to Nalanda Monastery in France in 2000 to deepen his studies. Since then\, he has completed the FPMT Basic Program and Masters Program. \n\n\n\nThe Course Outline\nThis course follows a clear and practical learning plan designed to guide you step by step through key Buddhist teachings. \n\n\n \n\nMind and its Potential\nExplore the limitless potential of your mind and discover how to cultivate positive states of awareness. \nHow to Meditate\nLearn the essential techniques to calm the mind\, enhance focus\, and develop inner peace. \nPresenting the Path\nGain a clear understanding of the step-by-step journey to awakening\, known in the Tibetan tradition as the Lam Rim Chenmo. \nThe Spiritual Teacher\nUnderstand the important role of a mentor\, teacher\, guru and spiritual friend on the path. \nDeath and Rebirth\nExamine the Buddhist perspective on life’s impermanence\, death\, and the continuity of consciousness.\n \n\nAll about Karma\nDiscover how actions shape your experiences and how to create positive change through mindful choices. \nRefuge in the Three Jewels\nLearn what it means to take refuge in the Buddha\, Dharma\, and Sangha as sources of guidance. \nEstablishing a Daily Practice\nBuild a sustainable daily practice that supports your growth and connects you with the teachings. \nSamsara and Nirvana\nExplore the cycles of dissatisfaction and suffering and how to break free into liberating peace.\n \n\nHow to develop Bodhicitta\nCultivate the mind of compassion and altruism\, aiming to benefit all beings. \nTransforming Problems\nLearn practical methods to transform life’s challenges into opportunities for growth and wisdom. \nThe wisdom of Emptiness\nDelve into the profound teachings on emptiness and gain insights into the true nature of reality. \nIntroduction to Tantra\nDiscover the transformative practices of Tantra and their potential for rapid spiritual development.\n\n\n\n\nClasses and the teaching schedule\nClasses begin on Monday\, May 5th\, and run weekly from 6:30–8:30 pm (UK time). You’re warmly invited to join us in person at the Old Courthouse in Kennington or connect online via Zoom for live teachings. Links and updates will be shared each week by our education team. \nTo make the course even more accessible\, weekly recordings will be available for all enrolled students—perfect if you miss a class\, want to revisit a topic\, or are studying from a different time zone. \nFrequently asked questions\n\nHow do I register / Sign Up?\n\nRegistration for Discovering Buddhism opens in April. Sign up to our newsletter\, join the ‘Discovering Buddhism’ Whatsapp group\, or follow our social channels for more info soon. \n\n\nIs this course right for me?\nDiscovering Buddhism is perfect for anyone curious about exploring Buddhist teachings and practices in a structured and accessible way. Whether you’re completely new to Buddhism\, already familiar with mindfulness or meditation\, or looking to deepen your understanding\, this course meets you where you are. \n\n\nWhat is Dhana and the Generosity model?\nDhana is a Sanskrit word meaning generosity or giving. In Buddhism\, it’s a foundational practice that cultivates an open heart and a sense of interconnectedness. The teachings of the Buddha are considered priceless\, and offering them on the basis of dana reflects this principle. \nAt Jamyang\, we follow a generosity-based model for our courses and events. This means we rely on your contributions to sustain the center and make these teachings accessible to everyone. \n\n\nHow long is the course?\nThe Discovering Buddhism course runs from May 5th 2025 to July 27th 2026. The course is 15 months in duration and is divided into 13 modules\, each focused around a specific topic. To help make the course more manageable we have built in a few gaps in the schedule; these breaks will be during August\, December\, and April. \n\n\nDo I have to sign up for every module?\n\nNo\, you don’t need to sign up for every module! While the Discovering Buddhism course is designed as a complete program\, with each module building on the last\, you’re welcome to join for the topics that interest you most. \n\nThat said\, committing to the full course provides a comprehensive understanding of the Buddhist path\, and you’ll benefit from the continuity of learning with the same group of students. If you’re unsure\, feel free to start with a single module and see how it resonates—there’s no obligation to continue beyond that. \n\n\nWhat type of Buddhism do you teach at Jamyang?\n\nAt Jamyang\, we teach Buddhism in the tradition of Tibetan Mahayana Buddhism\, which emphasizes compassion\, wisdom\, and the path to enlightenment for the benefit of all beings. This approach is rooted in the teachings of the great Indian masters like Nagarjuna and Atisha\, passed down through Tibetan lineage masters such as Lama Tsongkhapa. \n\nWhile grounded in these ancient traditions\, our teachings are presented in a way that’s accessible and relevant to modern life. Whether you’re exploring meditation\, Buddhist philosophy\, or practical tools for living with more peace and purpose\, our programs are designed to meet you wherever you are on your spiritual journey. \nOur centre is affiliated with the global organisation ‘The Foundation for the preservation of the Mahayana Tradition’ (FPMT) founded by Lama Yeshe and Lama Zopa Rinpoche. Our Spiritual Director is His Holiness the Dalai Lama. \n\n\nAre there learning resources and support available?\n\n\nWe provide a range of resources to help you get the most out of the Discovering Buddhism course: \n\n\nWeekly Recordings: All classes are recorded\, so you can revisit teachings at your own pace or catch up if you miss a session.\nCourse Materials: You’ll receive comprehensive handouts\, readings\, and worksheets for each module to deepen your understanding.\nFacilitator and Teaching Assistant Support: Regular review sessions and assessments are led by experienced facilitators to help clarify and reinforce key concepts.\nDiscovering Buddhism WhatsApp Group: A dedicated space to connect with fellow students\, share resources\, and ask questions.\nRecommended Readings: Curated book and article lists to expand your study of each topic.\nOnline Resources: Access to additional materials and suggested meditations to support independent practice.\n\nThese resources are designed to ensure you feel supported throughout the course\, whether you’re joining in person or online. \n\n\n\n\n\nWe’re here to help\nContact\nIf you need any further information or assistance\, simply reach out to Freddie\, our Assistant Spiritual Program Coordinator\, and he’ll be happy to help. \ngateway@jamyang.co.uk \n\n\n\nThank you for your interest in Discovering Buddhism. The course is offered on a subscription basis\, and we invite you to offer a monthly donation for the duration of the course. Please select the level of donation that best suits your financial situation – you can amend your donations at any time on your account page. \nJamyang is a non-profit charitable organisation that relies on the kindness of our donors\, including students and community members. The donations\, or Dana\, given when registering for events and teachings support the Centre’s operations\, allowing us to deliver our activities. \nWe wish to emphasise that the Dharma is always offered freely and no-one is ever excluded because of their financial status.
URL:https://jamyang.co.uk/whats-on/discovering-buddhism-2025-2026-18/2025-06-16/
LOCATION:Hybrid\, 43 Renfrew Road\, London\, London\, SE11 4NA\, United Kingdom
CATEGORIES:Buddhist Philosophy,Discovering Buddhism
ATTACH;FMTTYPE=image/jpeg:https://jamyang.co.uk/wp-content/uploads/2025/03/DB-2025-Graphic.jpg
END:VEVENT
BEGIN:VEVENT
DTSTART;TZID=Europe/London:20250622T140000
DTEND;TZID=Europe/London:20250622T180000
DTSTAMP:20260420T193216
CREATED:20250520T084657Z
LAST-MODIFIED:20250520T091040Z
UID:10002751-1750600800-1750615200@jamyang.co.uk
SUMMARY:Wisdom of Happiness: Film Festival for His Holiness the Dalai Lama's 90th Birthday
DESCRIPTION:Overview \nAs His Holiness the Dalai Lama turns 90 this year\, Jamyang is honouring the occasion by hosting the London Premiere of Wisdom of Happiness. Join us next door at the Cinema Museum where we will gather to watch this intimate biopic for the first time. After the film we will be offering a tour of the Old Courthouse\, now the home of Jamyang London Buddhist Centre\, followed by tea and refreshments. \nSynopsis \nWISDOM OF HAPPINESS is a profound\, new cinematic exploration of the innermost world of the Dalai Lama\, perfectly attuned to our times. In an intimate heart-to-heart\, the world’s greatest ambassador of compassion invites everyone along for a journey to the source of happiness. \n\n\nAt the pinnacle of nine exceptionally challenging decades in the world spotlight that began at the age of four\, the Dalai Lama reflects on balancing millennia-old Tibetan Buddhist traditions with contemporary values of our globalized society that now struggles to overcome violence and war while standing on the brink of environmental collapse. The first Nobel Peace Laureate to be recognized for an early call to preserve our planet shows us that is possible to build a healthier\, happier world for all livings being and that the tools necessary to do so are\, in fact\, already in the palms of our hands. \nThanks to his expansive mind and disarming wit\, the Dalai Lama’s incredibly complex path to a healthy\, happy life is finely distilled and inspires us to see how simple it could be to build to a peaceful\, prosperous society for all to thrive. While happiness is born in each of us\, only the cultivation of unconditional compassion for one another will transform the world. \nIn what is likely to be the Dalai Lama’s last appearance in a film\, the extraordinary collaboration between Barbara Miller\, Philip Delaquis\, Manuel Bauer\, Oren Moverman and Richard Gere creates a remarkable and timely offering to viewers. The filmmakers weave captivating access with contemplative visuals and never-before-seen archival film to take viewers on a generous meditative climb- from the base of suffering to the peak of human intelligence where the view is simply transformational. \nWISDOM OF HAPPINESS is an unforgettable\, meditative experience for the 21st Century that not only unlocks a door to genuine\, lasting happiness but reveals that each and every one of Earth’s 8 billion beings holds their very own key to it in the palm of their hand. \n\nSchedule \n\n14:00-14:30 – Cinema Museum – Arriving and settling in\n14:30-16:05 – Introducing the film and screening of Wisdom of Happiness\n16:05-16:15 – Short break\n16:15-16:30 – Discussion and Q&A\n16:30-18:00 – Tour of the Old Courthouse\, with refreshments in the courtyard\n\n\nTickets \nIn the spirit of kindness that the Dalai Lama embodies\, tickets for this event are offered at a low cost – the ticket price covers the fee charged by the film’s distributor. Tickets are limited\, so we recommend you book now to reserve your place. For any questions\, please contact Freddie by sending an email to gateway@jamyang.co.uk
URL:https://jamyang.co.uk/whats-on/wisdom-of-happiness-film-festival-for-his-holiness-the-dalai-lamas-90th-birthday/
LOCATION:The Cinema Museum\, 2 Dugard Way\, London\, London\, SE11 4TH\, United Kingdom
CATEGORIES:Community Activities
ATTACH;FMTTYPE=image/jpeg:https://jamyang.co.uk/wp-content/uploads/2025/05/Wisdom-of-Happiness-Movie-Day.jpg
END:VEVENT
END:VCALENDAR